BEGIN:VCALENDAR
VERSION:2.0
PRODID:-//ICS Generator//NONSGML ICS Generator//DE
BEGIN:VEVENT
UID:1770563922478-8a622j7?@ics-generator.de
DTSTAMP:20260208T151842Z
DTSTART:20260207T080000
DTEND:20260207T120000
SUMMARY:Training Grosskaliber (nur 25 m)
LOCATION:Schiessanlage Beichlen
BEGIN:VALARM
ACTION:DISPLAY
TRIGGER:-PT60M
DESCRIPTION:Reminder
END:VALARM
END:VEVENT
BEGIN:VEVENT
UID:1770563922478-29ytwxb?@ics-generator.de
DTSTAMP:20260208T151842Z
DTSTART:20260214T130000
DTEND:20260214T170000
SUMMARY:Training Grosskaliber (nur 25 m)
LOCATION:Schiessanlage Beichlen
BEGIN:VALARM
ACTION:DISPLAY
TRIGGER:-PT60M
DESCRIPTION:Reminder
END:VALARM
END:VEVENT
BEGIN:VEVENT
UID:1770563922478-0q42t36?@ics-generator.de
DTSTAMP:20260208T151842Z
DTSTART:20260303T170000
DTEND:20260303T190000
SUMMARY:Training Kleinkaliber
LOCATION:Schiessanlage Beichlen
BEGIN:VALARM
ACTION:DISPLAY
TRIGGER:-PT60M
DESCRIPTION:Reminder
END:VALARM
END:VEVENT
BEGIN:VEVENT
UID:1770563922478-zf3wukg?@ics-generator.de
DTSTAMP:20260208T151842Z
DTSTART:20260310T170000
DTEND:20260310T190000
SUMMARY:Training Kleinkaliber
LOCATION:Schiessanlage Beichlen
BEGIN:VALARM
ACTION:DISPLAY
TRIGGER:-PT60M
DESCRIPTION:Reminder
END:VALARM
END:VEVENT
BEGIN:VEVENT
UID:1770563922478-bqgd1rx?@ics-generator.de
DTSTAMP:20260208T151842Z
DTSTART:20260314T093000
DTEND:20260314T113000
SUMMARY:Training Grosskaliber + Cup 2025
LOCATION:Schiessanlage Beichlen
BEGIN:VALARM
ACTION:DISPLAY
TRIGGER:-PT60M
DESCRIPTION:Reminder
END:VALARM
END:VEVENT
BEGIN:VEVENT
UID:1770563922478-o6l3rh5?@ics-generator.de
DTSTAMP:20260208T151842Z
DTSTART:20260317T170000
DTEND:20260317T190000
SUMMARY:Training Kleinkaliber
LOCATION:Schiessanlage Beichlen
BEGIN:VALARM
ACTION:DISPLAY
TRIGGER:-PT60M
DESCRIPTION:Reminder
END:VALARM
END:VEVENT
BEGIN:VEVENT
UID:1770563922478-y72qpho?@ics-generator.de
DTSTAMP:20260208T151842Z
DTSTART:20260324T170000
DTEND:20260324T190000
SUMMARY:Training Kleinkaliber
LOCATION:Schiessanlage Beichlen
BEGIN:VALARM
ACTION:DISPLAY
TRIGGER:-PT60M
DESCRIPTION:Reminder
END:VALARM
END:VEVENT
BEGIN:VEVENT
UID:1770563922478-lpswqhm?@ics-generator.de
DTSTAMP:20260208T151842Z
DTSTART:20260328T093000
DTEND:20260328T113000
SUMMARY:Training Grosskaliber
LOCATION:Schiessanlage Beichlen
BEGIN:VALARM
ACTION:DISPLAY
TRIGGER:-PT60M
DESCRIPTION:Reminder
END:VALARM
END:VEVENT
BEGIN:VEVENT
UID:1770563922478-2l34ria?@ics-generator.de
DTSTAMP:20260208T151842Z
DTSTART:20260331T170000
DTEND:20260331T190000
SUMMARY:Training Kleinkaliber
LOCATION:Schiessanlage Beichlen
BEGIN:VALARM
ACTION:DISPLAY
TRIGGER:-PT60M
DESCRIPTION:Reminder
END:VALARM
END:VEVENT
BEGIN:VEVENT
UID:1770563922478-fqy7pig?@ics-generator.de
DTSTAMP:20260208T151842Z
DTSTART:20260407T170000
DTEND:20260407T190000
SUMMARY:Training Kleinkaliber
LOCATION:Schiessanlage Beichlen
BEGIN:VALARM
ACTION:DISPLAY
TRIGGER:-PT60M
DESCRIPTION:Reminder
END:VALARM
END:VEVENT
BEGIN:VEVENT
UID:1770563922478-c1q4tjx?@ics-generator.de
DTSTAMP:20260208T151842Z
DTSTART:20260411T090000
DTEND:20260411T110000
SUMMARY:Training Grosskaliber
LOCATION:Schiessanlage Beichlen
BEGIN:VALARM
ACTION:DISPLAY
TRIGGER:-PT60M
DESCRIPTION:Reminder
END:VALARM
END:VEVENT
BEGIN:VEVENT
UID:1770563922478-ffjt4rf?@ics-generator.de
DTSTAMP:20260208T151842Z
DTSTART:20260414T173000
DTEND:20260414T193000
SUMMARY:Training Grosskaliber
LOCATION:Schiessanlage Beichlen
BEGIN:VALARM
ACTION:DISPLAY
TRIGGER:-PT60M
DESCRIPTION:Reminder
END:VALARM
END:VEVENT
BEGIN:VEVENT
UID:1770563922478-8tqjg8b?@ics-generator.de
DTSTAMP:20260208T151842Z
DTSTART:20260421T173000
DTEND:20260421T193000
SUMMARY:Training Kleinkaliber
LOCATION:Schiessanlage Beichlen
BEGIN:VALARM
ACTION:DISPLAY
TRIGGER:-PT60M
DESCRIPTION:Reminder
END:VALARM
END:VEVENT
BEGIN:VEVENT
UID:1770563922478-2ow6ol9?@ics-generator.de
DTSTAMP:20260208T151842Z
DTSTART:20260423T180000
DTEND:20260423T200000
SUMMARY:Training Grosskaliber vorschiessen Feldschiessen
LOCATION:Schiessanlage Beichlen
BEGIN:VALARM
ACTION:DISPLAY
TRIGGER:-PT60M
DESCRIPTION:Reminder
END:VALARM
END:VEVENT
BEGIN:VEVENT
UID:1770563922478-7chx1l2?@ics-generator.de
DTSTAMP:20260208T151842Z
DTSTART:20260428T180000
DTEND:20260428T200000
SUMMARY:Training Kleinkaliber
LOCATION:Schiessanlage Beichlen
BEGIN:VALARM
ACTION:DISPLAY
TRIGGER:-PT60M
DESCRIPTION:Reminder
END:VALARM
END:VEVENT
BEGIN:VEVENT
UID:1770563922478-uoy0brr?@ics-generator.de
DTSTAMP:20260208T151842Z
DTSTART:20260502T090000
DTEND:20260502T110000
SUMMARY:Training Grosskaliber
LOCATION:Schiessanlage Beichlen
BEGIN:VALARM
ACTION:DISPLAY
TRIGGER:-PT60M
DESCRIPTION:Reminder
END:VALARM
END:VEVENT
BEGIN:VEVENT
UID:1770563922478-d8x29gq?@ics-generator.de
DTSTAMP:20260208T151842Z
DTSTART:20260505T180000
DTEND:20260505T200000
SUMMARY:Training Kleinkaliber
LOCATION:Schiessanlage Beichlen
BEGIN:VALARM
ACTION:DISPLAY
TRIGGER:-PT60M
DESCRIPTION:Reminder
END:VALARM
END:VEVENT
BEGIN:VEVENT
UID:1770563922479-jlqu7x9?@ics-generator.de
DTSTAMP:20260208T151842Z
DTSTART:20260512T180000
DTEND:20260512T200000
SUMMARY:Training Grosskaliber
LOCATION:Schiessanlage Beichlen
BEGIN:VALARM
ACTION:DISPLAY
TRIGGER:-PT60M
DESCRIPTION:Reminder
END:VALARM
END:VEVENT
BEGIN:VEVENT
UID:1770563922479-spossis?@ics-generator.de
DTSTAMP:20260208T151842Z
DTSTART:20260518T180000
DTEND:20260518T200000
SUMMARY:Obligatorisches Bundesprogramm
LOCATION:Schiessanlage Beichlen
BEGIN:VALARM
ACTION:DISPLAY
TRIGGER:-PT60M
DESCRIPTION:Reminder
END:VALARM
END:VEVENT
BEGIN:VEVENT
UID:1770563922479-043tghc?@ics-generator.de
DTSTAMP:20260208T151842Z
DTSTART:20260519T180000
DTEND:20260519T200000
SUMMARY:Training Kleinkaliber
LOCATION:Schiessanlage Beichlen
BEGIN:VALARM
ACTION:DISPLAY
TRIGGER:-PT60M
DESCRIPTION:Reminder
END:VALARM
END:VEVENT
BEGIN:VEVENT
UID:1770563922479-a64f9xk?@ics-generator.de
DTSTAMP:20260208T151842Z
DTSTART:20260526T180000
DTEND:20260526T200000
SUMMARY:Training Grosskaliber
LOCATION:Schiessanlage Beichlen
BEGIN:VALARM
ACTION:DISPLAY
TRIGGER:-PT60M
DESCRIPTION:Reminder
END:VALARM
END:VEVENT
BEGIN:VEVENT
UID:1770563922479-lxf6hgw?@ics-generator.de
DTSTAMP:20260208T151842Z
DTSTART:20260602T180000
DTEND:20260602T200000
SUMMARY:Training Grosskaliber
LOCATION:Schiessanlage Beichlen
BEGIN:VALARM
ACTION:DISPLAY
TRIGGER:-PT60M
DESCRIPTION:Reminder
END:VALARM
END:VEVENT
BEGIN:VEVENT
UID:1770563922479-03ypyke?@ics-generator.de
DTSTAMP:20260208T151842Z
DTSTART:20260529T180000
DTEND:20260531T153000
SUMMARY:Eidgenössisches Feldschiessen
LOCATION:Schiessanlage Beichlen
BEGIN:VALARM
ACTION:DISPLAY
TRIGGER:-PT60M
DESCRIPTION:Reminder
END:VALARM
END:VEVENT
BEGIN:VEVENT
UID:1770563922479-zip0sai?@ics-generator.de
DTSTAMP:20260208T151842Z
DTSTART:20260611T180000
DTEND:20260611T200000
SUMMARY:Training Grosskaliber
LOCATION:Schiessanlage Beichlen
BEGIN:VALARM
ACTION:DISPLAY
TRIGGER:-PT60M
DESCRIPTION:Reminder
END:VALARM
END:VEVENT
BEGIN:VEVENT
UID:1770563922479-97zxft7?@ics-generator.de
DTSTAMP:20260208T151842Z
DTSTART:20260609T180000
DTEND:20260609T200000
SUMMARY:Training Kleinkaliber
LOCATION:Schiessanlage Beichlen
BEGIN:VALARM
ACTION:DISPLAY
TRIGGER:-PT60M
DESCRIPTION:Reminder
END:VALARM
END:VEVENT
BEGIN:VEVENT
UID:1770563922479-1azff2u?@ics-generator.de
DTSTAMP:20260208T151842Z
DTSTART:20260613T090000
DTEND:20260613T110000
SUMMARY:Training Grosskaliber
LOCATION:Schiessanlage Beichlen
BEGIN:VALARM
ACTION:DISPLAY
TRIGGER:-PT60M
DESCRIPTION:Reminder
END:VALARM
END:VEVENT
BEGIN:VEVENT
UID:1770563922479-grp9hxd?@ics-generator.de
DTSTAMP:20260208T151842Z
DTSTART:20260616T180000
DTEND:20260616T200000
SUMMARY:Training Kleinkaliber
LOCATION:Schiessanlage Beichlen
BEGIN:VALARM
ACTION:DISPLAY
TRIGGER:-PT60M
DESCRIPTION:Reminder
END:VALARM
END:VEVENT
BEGIN:VEVENT
UID:1770563922479-gsbpyt9?@ics-generator.de
DTSTAMP:20260208T151842Z
DTSTART:20260623T180000
DTEND:20260623T200000
SUMMARY:Training Kleinkaliber
LOCATION:Schiessanlage Beichlen
BEGIN:VALARM
ACTION:DISPLAY
TRIGGER:-PT60M
DESCRIPTION:Reminder
END:VALARM
END:VEVENT
BEGIN:VEVENT
UID:1770563922479-kj1gl93?@ics-generator.de
DTSTAMP:20260208T151842Z
DTSTART:20260627T090000
DTEND:20260627T110000
SUMMARY:Training Grosskaliber
LOCATION:Schiessanlage Beichlen
BEGIN:VALARM
ACTION:DISPLAY
TRIGGER:-PT60M
DESCRIPTION:Reminder
END:VALARM
END:VEVENT
BEGIN:VEVENT
UID:1770563922480-8vlqqse?@ics-generator.de
DTSTAMP:20260208T151842Z
DTSTART:20260630T180000
DTEND:20260630T200000
SUMMARY:Training Kleinkaliber
LOCATION:Schiessanlage Beichlen
BEGIN:VALARM
ACTION:DISPLAY
TRIGGER:-PT60M
DESCRIPTION:Reminder
END:VALARM
END:VEVENT
BEGIN:VEVENT
UID:1770563922480-hh80x14?@ics-generator.de
DTSTAMP:20260208T151842Z
DTSTART:20260706T180000
DTEND:20260706T200000
SUMMARY:Training Grosskaliber
LOCATION:Schiessanlage Beichlen
BEGIN:VALARM
ACTION:DISPLAY
TRIGGER:-PT60M
DESCRIPTION:Reminder
END:VALARM
END:VEVENT
BEGIN:VEVENT
UID:1770563922480-fm4tbko?@ics-generator.de
DTSTAMP:20260208T151842Z
DTSTART:20260707T180000
DTEND:20260707T200000
SUMMARY:Training Kleinkaliber
LOCATION:Schiessanlage Beichlen
BEGIN:VALARM
ACTION:DISPLAY
TRIGGER:-PT60M
DESCRIPTION:Reminder
END:VALARM
END:VEVENT
BEGIN:VEVENT
UID:1770563922480-tij0oh2?@ics-generator.de
DTSTAMP:20260208T151842Z
DTSTART:20260714T180000
DTEND:20260714T200000
SUMMARY:Training Kleinkaliber
LOCATION:Schiessanlage Beichlen
BEGIN:VALARM
ACTION:DISPLAY
TRIGGER:-PT60M
DESCRIPTION:Reminder
END:VALARM
END:VEVENT
BEGIN:VEVENT
UID:1770563922480-dsr93h0?@ics-generator.de
DTSTAMP:20260208T151842Z
DTSTART:20260804T180000
DTEND:20260804T200000
SUMMARY:Training Kleinkaliber
LOCATION:Schiessanlage Beichlen
BEGIN:VALARM
ACTION:DISPLAY
TRIGGER:-PT60M
DESCRIPTION:Reminder
END:VALARM
END:VEVENT
BEGIN:VEVENT
UID:1770563922480-2xj2zj0?@ics-generator.de
DTSTAMP:20260208T151842Z
DTSTART:20260811T180000
DTEND:20260811T200000
SUMMARY:Training Grosskaliber
LOCATION:Schiessanlage Beichlen
BEGIN:VALARM
ACTION:DISPLAY
TRIGGER:-PT60M
DESCRIPTION:Reminder
END:VALARM
END:VEVENT
BEGIN:VEVENT
UID:1770563922480-q8aag5w?@ics-generator.de
DTSTAMP:20260208T151842Z
DTSTART:20260817T180000
DTEND:20260817T200000
SUMMARY:Training Grosskaliber
LOCATION:Schiessanlage Beichlen
BEGIN:VALARM
ACTION:DISPLAY
TRIGGER:-PT60M
DESCRIPTION:Reminder
END:VALARM
END:VEVENT
BEGIN:VEVENT
UID:1770563922480-7ejaxaa?@ics-generator.de
DTSTAMP:20260208T151842Z
DTSTART:20260818T180000
DTEND:20260818T200000
SUMMARY:Training Kleinkaliber
LOCATION:Schiessanlage Beichlen
BEGIN:VALARM
ACTION:DISPLAY
TRIGGER:-PT60M
DESCRIPTION:Reminder
END:VALARM
END:VEVENT
BEGIN:VEVENT
UID:1770563922480-ykdw1u0?@ics-generator.de
DTSTAMP:20260208T151842Z
DTSTART:20260825T180000
DTEND:20260825T200000
SUMMARY:Training Kleinkaliber
LOCATION:Schiessanlage Beichlen
BEGIN:VALARM
ACTION:DISPLAY
TRIGGER:-PT60M
DESCRIPTION:Reminder
END:VALARM
END:VEVENT
BEGIN:VEVENT
UID:1770563922480-ad62z89?@ics-generator.de
DTSTAMP:20260208T151842Z
DTSTART:20260827T180000
DTEND:20260827T200000
SUMMARY:Training Grosskaliber
LOCATION:Schiessanlage Beichlen
BEGIN:VALARM
ACTION:DISPLAY
TRIGGER:-PT60M
DESCRIPTION:Reminder
END:VALARM
END:VEVENT
BEGIN:VEVENT
UID:1770563922480-3mn2395?@ics-generator.de
DTSTAMP:20260208T151842Z
DTSTART:20260829T090000
DTEND:20260829T110000
SUMMARY:Obligatorisches Bundesprogramm
LOCATION:Schiessanlage Beichlen
BEGIN:VALARM
ACTION:DISPLAY
TRIGGER:-PT60M
DESCRIPTION:Reminder
END:VALARM
END:VEVENT
BEGIN:VEVENT
UID:1770563922480-en5asfx?@ics-generator.de
DTSTAMP:20260208T151842Z
DTSTART:20260901T173000
DTEND:20260901T193000
SUMMARY:Training Kleinkaliber
LOCATION:Schiessanlage Beichlen
BEGIN:VALARM
ACTION:DISPLAY
TRIGGER:-PT60M
DESCRIPTION:Reminder
END:VALARM
END:VEVENT
BEGIN:VEVENT
UID:1770563922480-nbrcgs4?@ics-generator.de
DTSTAMP:20260208T151842Z
DTSTART:20260903T180000
DTEND:20260903T200000
SUMMARY:Training Grosskaliber
LOCATION:Schiessanlage Beichlen
BEGIN:VALARM
ACTION:DISPLAY
TRIGGER:-PT60M
DESCRIPTION:Reminder
END:VALARM
END:VEVENT
BEGIN:VEVENT
UID:1770563922480-bgsvq61?@ics-generator.de
DTSTAMP:20260208T151842Z
DTSTART:20260908T173000
DTEND:20260908T193000
SUMMARY:Training Kleinkaliber
LOCATION:Schiessanlage Beichlen
BEGIN:VALARM
ACTION:DISPLAY
TRIGGER:-PT60M
DESCRIPTION:Reminder
END:VALARM
END:VEVENT
BEGIN:VEVENT
UID:1770563922480-17cqkhn?@ics-generator.de
DTSTAMP:20260208T151842Z
DTSTART:20260912T090000
DTEND:20260912T110000
SUMMARY:Training Grosskaliber
LOCATION:Schiessanlage Beichlen
BEGIN:VALARM
ACTION:DISPLAY
TRIGGER:-PT60M
DESCRIPTION:Reminder
END:VALARM
END:VEVENT
BEGIN:VEVENT
UID:1770563922480-yqjdvt7?@ics-generator.de
DTSTAMP:20260208T151842Z
DTSTART:20260915T173000
DTEND:20260915T193000
SUMMARY:Training Grosskaliber
LOCATION:Schiessanlage Beichlen
BEGIN:VALARM
ACTION:DISPLAY
TRIGGER:-PT60M
DESCRIPTION:Reminder
END:VALARM
END:VEVENT
BEGIN:VEVENT
UID:1770563922480-m7azn6t?@ics-generator.de
DTSTAMP:20260208T151842Z
DTSTART:20260919T133000
DTEND:20260919T153000
SUMMARY:Training Grosskaliber
LOCATION:Schiessanlage Beichlen
BEGIN:VALARM
ACTION:DISPLAY
TRIGGER:-PT60M
DESCRIPTION:Reminder
END:VALARM
END:VEVENT
BEGIN:VEVENT
UID:1770563922480-u4v64k2?@ics-generator.de
DTSTAMP:20260208T151842Z
DTSTART:20260922T170000
DTEND:20260922T190000
SUMMARY:Training Kleinkaliber
LOCATION:Schiessanlage Beichlen
BEGIN:VALARM
ACTION:DISPLAY
TRIGGER:-PT60M
DESCRIPTION:Reminder
END:VALARM
END:VEVENT
BEGIN:VEVENT
UID:1770563922480-r0e02sp?@ics-generator.de
DTSTAMP:20260208T151842Z
DTSTART:20260926T080000
DTEND:20260926T120000
SUMMARY:Training Grosskaliber
LOCATION:Schiessanlage Beichlen
BEGIN:VALARM
ACTION:DISPLAY
TRIGGER:-PT60M
DESCRIPTION:Reminder
END:VALARM
END:VEVENT
BEGIN:VEVENT
UID:1770563922480-5ntjs1u?@ics-generator.de
DTSTAMP:20260208T151842Z
DTSTART:20260929T170000
DTEND:20260929T190000
SUMMARY:Training Grosskaliber
LOCATION:Schiessanlage Beichlen
BEGIN:VALARM
ACTION:DISPLAY
TRIGGER:-PT60M
DESCRIPTION:Reminder
END:VALARM
END:VEVENT
BEGIN:VEVENT
UID:1770563922481-y4zcnpl?@ics-generator.de
DTSTAMP:20260208T151842Z
DTSTART:20261006T170000
DTEND:20261006T190000
SUMMARY:Training Kleinkaliber
LOCATION:Schiessanlage Beichlen
BEGIN:VALARM
ACTION:DISPLAY
TRIGGER:-PT60M
DESCRIPTION:Reminder
END:VALARM
END:VEVENT
BEGIN:VEVENT
UID:1770563922481-gft5sv3?@ics-generator.de
DTSTAMP:20260208T151842Z
DTSTART:20261013T170000
DTEND:20261013T190000
SUMMARY:Training Kleinkaliber
LOCATION:Schiessanlage Beichlen
BEGIN:VALARM
ACTION:DISPLAY
TRIGGER:-PT60M
DESCRIPTION:Reminder
END:VALARM
END:VEVENT
BEGIN:VEVENT
UID:1770563922481-jxw1das?@ics-generator.de
DTSTAMP:20260208T151842Z
DTSTART:20261020T173000
DTEND:20261020T193000
SUMMARY:Training Kleinkaliber
LOCATION:Schiessanlage Beichlen
BEGIN:VALARM
ACTION:DISPLAY
TRIGGER:-PT60M
DESCRIPTION:Reminder
END:VALARM
END:VEVENT
BEGIN:VEVENT
UID:1770563922481-jh8zbrc?@ics-generator.de
DTSTAMP:20260208T151842Z
DTSTART:20261024T093000
DTEND:20261024T113000
SUMMARY:Training Grosskaliber
LOCATION:Schiessanlage Beichlen
BEGIN:VALARM
ACTION:DISPLAY
TRIGGER:-PT60M
DESCRIPTION:Reminder
END:VALARM
END:VEVENT
BEGIN:VEVENT
UID:1770563922481-jfwzlir?@ics-generator.de
DTSTAMP:20260208T151842Z
DTSTART:20261027T170000
DTEND:20261027T190000
SUMMARY:Training Kleinkaliber
LOCATION:Schiessanlage Beichlen
BEGIN:VALARM
ACTION:DISPLAY
TRIGGER:-PT60M
DESCRIPTION:Reminder
END:VALARM
END:VEVENT
BEGIN:VEVENT
UID:1770563922481-2cs1jbj?@ics-generator.de
DTSTAMP:20260208T151842Z
DTSTART:20261024T093000
DTEND:20261024T113000
SUMMARY:Herbstschiessen
LOCATION:Schiessanlage Beichlen
BEGIN:VALARM
ACTION:DISPLAY
TRIGGER:-PT60M
DESCRIPTION:Reminder
END:VALARM
END:VEVENT
BEGIN:VEVENT
UID:1770563922481-yxqsyhh?@ics-generator.de
DTSTAMP:20260208T151842Z
DTSTART:20261031T080000
DTEND:20261031T120000
SUMMARY:Endschiessen
LOCATION:Schiessanlage Beichlen
BEGIN:VALARM
ACTION:DISPLAY
TRIGGER:-PT60M
DESCRIPTION:Reminder
END:VALARM
END:VEVENT
BEGIN:VEVENT
UID:1770563922481-ndov6n8?@ics-generator.de
DTSTAMP:20260208T151842Z
DTSTART:20261107T093000
DTEND:20261107T113000
SUMMARY:Cup PSV
LOCATION:Schiessanlage Beichlen
BEGIN:VALARM
ACTION:DISPLAY
TRIGGER:-PT60M
DESCRIPTION:Reminder
END:VALARM
END:VEVENT
END:VCALENDAR
